Package: BatchSVG Version: 1.1.1 Maintainer: Kinnary Shah MaintainerEmail: kinnaryshahh at gmail.com git_url: https://git.bioconductor.org/packages/BatchSVG git_branch: devel git_last_commit: 90398e8 git_last_commit_date: 2025-10-06 13:04:34 -0400 (Mon, 06 Oct 2025)