Package: BatchQC Version: 2.5.14 Command: /home/biocbuild/bbs-3.22-bioc/R/bin/R CMD INSTALL BatchQC StartedAt: 2025-10-24 16:04:45 -0400 (Fri, 24 Oct 2025) EndedAt: 2025-10-24 16:05:24 -0400 (Fri, 24 Oct 2025) EllapsedTime: 38.8 seconds RetCode: 0 Status: OK