Package: BatchQC Version: 2.6.0 Command: /Library/Frameworks/R.framework/Resources/bin/R CMD INSTALL BatchQC StartedAt: 2025-11-03 15:53:16 -0500 (Mon, 03 Nov 2025) EndedAt: 2025-11-03 15:54:09 -0500 (Mon, 03 Nov 2025) EllapsedTime: 53.0 seconds RetCode: 0 Status: OK