Package: BatchQC Version: 2.6.0 Command: /Library/Frameworks/R.framework/Resources/bin/R CMD build --keep-empty-dirs --no-resave-data BatchQC StartedAt: 2025-11-03 16:08:37 -0500 (Mon, 03 Nov 2025) EndedAt: 2025-11-03 16:16:04 -0500 (Mon, 03 Nov 2025) EllapsedTime: 447.8 seconds RetCode: 0 Status: OK PackageFile: BatchQC_2.6.0.tar.gz PackageFileSize: 4.256 MiB