Package: BatchQC Version: 2.5.14 Command: /Library/Frameworks/R.framework/Resources/bin/R CMD INSTALL BatchQC StartedAt: 2025-10-24 15:32:10 -0400 (Fri, 24 Oct 2025) EndedAt: 2025-10-24 15:32:26 -0400 (Fri, 24 Oct 2025) EllapsedTime: 16.5 seconds RetCode: 0 Status: OK