Package: BatchQC Version: 2.5.14 Command: /Library/Frameworks/R.framework/Resources/bin/R CMD build --keep-empty-dirs --no-resave-data BatchQC StartedAt: 2025-10-24 15:45:23 -0400 (Fri, 24 Oct 2025) EndedAt: 2025-10-24 15:47:34 -0400 (Fri, 24 Oct 2025) EllapsedTime: 131.4 seconds RetCode: 0 Status: OK PackageFile: BatchQC_2.5.14.tar.gz PackageFileSize: 4.263 MiB