Package: BatchQC Version: 2.5.14 Command: rm -rf BatchQC.buildbin-libdir && mkdir BatchQC.buildbin-libdir && /Users/biocbuild/BBS/utils/build-universal.sh BatchQC_2.5.14.tar.gz /Library/Frameworks/R.framework/Resources/bin/R BatchQC.buildbin-libdir StartedAt: 2025-10-24 22:54:51 -0400 (Fri, 24 Oct 2025) EndedAt: 2025-10-24 22:55:10 -0400 (Fri, 24 Oct 2025) EllapsedTime: 18.4 seconds RetCode: 0 Status: OK PackageFile: BatchQC_2.5.14.tgz PackageFileSize: 4.519 MiB