Package: BasicSTARRseq Version: 1.37.1 Command: /home/biocbuild/R/R/bin/R CMD INSTALL BasicSTARRseq StartedAt: 2025-10-23 20:46:12 -0000 (Thu, 23 Oct 2025) EndedAt: 2025-10-23 20:46:47 -0000 (Thu, 23 Oct 2025) EllapsedTime: 34.1 seconds RetCode: 0 Status: OK