Package: BasicSTARRseq Version: 1.37.1 Command: /Library/Frameworks/R.framework/Resources/bin/R CMD INSTALL BasicSTARRseq StartedAt: 2025-10-24 15:33:13 -0400 (Fri, 24 Oct 2025) EndedAt: 2025-10-24 15:33:48 -0400 (Fri, 24 Oct 2025) EllapsedTime: 34.9 seconds RetCode: 0 Status: OK