Package: BasicSTARRseq Version: 1.37.1 Command: /Library/Frameworks/R.framework/Resources/bin/R CMD build --keep-empty-dirs --no-resave-data BasicSTARRseq StartedAt: 2025-10-24 16:12:34 -0400 (Fri, 24 Oct 2025) EndedAt: 2025-10-24 16:13:21 -0400 (Fri, 24 Oct 2025) EllapsedTime: 46.9 seconds RetCode: 0 Status: OK PackageFile: BasicSTARRseq_1.37.1.tar.gz PackageFileSize: 551.5 KiB