Package: Basic4Cseq Version: 1.45.1 Command: /home/biocbuild/bbs-3.22-bioc/R/bin/R CMD INSTALL Basic4Cseq StartedAt: 2025-10-24 15:43:34 -0400 (Fri, 24 Oct 2025) EndedAt: 2025-10-24 15:44:08 -0400 (Fri, 24 Oct 2025) EllapsedTime: 34.5 seconds RetCode: 0 Status: OK