Package: Basic4Cseq Version: 1.45.1 Command: /home/biocbuild/bbs-3.22-bioc/R/bin/R CMD check --install=check:Basic4Cseq.install-out.txt --library=/home/biocbuild/bbs-3.22-bioc/R/site-library --timings Basic4Cseq_1.45.1.tar.gz StartedAt: 2025-10-24 21:22:37 -0400 (Fri, 24 Oct 2025) EndedAt: 2025-10-24 21:26:42 -0400 (Fri, 24 Oct 2025) EllapsedTime: 244.2 seconds RetCode: 0 Status: OK CheckDir: Basic4Cseq.Rcheck Warnings: 0