Package: Basic4Cseq Version: 1.45.1 Command: /Library/Frameworks/R.framework/Resources/bin/R CMD INSTALL Basic4Cseq StartedAt: 2025-10-24 15:39:27 -0400 (Fri, 24 Oct 2025) EndedAt: 2025-10-24 15:40:14 -0400 (Fri, 24 Oct 2025) EllapsedTime: 47.8 seconds RetCode: 0 Status: OK