Package: Basic4Cseq Version: 1.45.1 Command: /Library/Frameworks/R.framework/Resources/bin/R CMD build --keep-empty-dirs --no-resave-data Basic4Cseq StartedAt: 2025-10-24 16:12:09 -0400 (Fri, 24 Oct 2025) EndedAt: 2025-10-24 16:13:14 -0400 (Fri, 24 Oct 2025) EllapsedTime: 65.1 seconds RetCode: 0 Status: OK PackageFile: Basic4Cseq_1.45.1.tar.gz PackageFileSize: 383.4 KiB