Package: Basic4Cseq Version: 1.45.1 Command: /Library/Frameworks/R.framework/Resources/bin/R CMD INSTALL Basic4Cseq StartedAt: 2025-10-26 15:18:01 -0400 (Sun, 26 Oct 2025) EndedAt: 2025-10-26 15:18:15 -0400 (Sun, 26 Oct 2025) EllapsedTime: 14.3 seconds RetCode: 0 Status: OK