Package: BaseSpaceR Version: 1.54.0 Command: /home/biocbuild/bbs-3.22-bioc/R/bin/R CMD check --install=check:BaseSpaceR.install-out.txt --library=/home/biocbuild/bbs-3.22-bioc/R/site-library --timings BaseSpaceR_1.54.0.tar.gz StartedAt: 2025-11-02 21:30:27 -0500 (Sun, 02 Nov 2025) EndedAt: 2025-11-02 21:31:11 -0500 (Sun, 02 Nov 2025) EllapsedTime: 44.0 seconds RetCode: 0 Status: WARNINGS CheckDir: BaseSpaceR.Rcheck Warnings: 1