Package: BaseSpaceR Version: 1.53.0 Command: /home/biocbuild/bbs-3.22-bioc/R/bin/R CMD build --keep-empty-dirs --no-resave-data --md5 BaseSpaceR StartedAt: 2025-10-27 16:20:56 -0400 (Mon, 27 Oct 2025) EndedAt: 2025-10-27 16:21:10 -0400 (Mon, 27 Oct 2025) EllapsedTime: 14.0 seconds RetCode: 0 Status: OK PackageFile: BaseSpaceR_1.53.0.tar.gz PackageFileSize: 582.7 KiB