Package: BaseSpaceR Version: 1.53.0 Command: /Library/Frameworks/R.framework/Resources/bin/R CMD INSTALL BaseSpaceR StartedAt: 2025-10-24 15:13:50 -0400 (Fri, 24 Oct 2025) EndedAt: 2025-10-24 15:14:21 -0400 (Fri, 24 Oct 2025) EllapsedTime: 30.6 seconds RetCode: 0 Status: OK