Package: BaseSpaceR Version: 1.53.0 Command: rm -rf BaseSpaceR.buildbin-libdir && mkdir BaseSpaceR.buildbin-libdir && /Users/biocbuild/BBS/utils/build-universal.sh BaseSpaceR_1.53.0.tar.gz /Library/Frameworks/R.framework/Resources/bin/R BaseSpaceR.buildbin-libdir StartedAt: 2025-10-28 02:00:27 -0400 (Tue, 28 Oct 2025) EndedAt: 2025-10-28 02:00:38 -0400 (Tue, 28 Oct 2025) EllapsedTime: 11.2 seconds RetCode: 0 Status: OK PackageFile: BaseSpaceR_1.53.0.tgz PackageFileSize: 748.3 KiB