Package: BaseSpaceR Version: 1.53.0 Command: /Library/Frameworks/R.framework/Resources/bin/R CMD build --keep-empty-dirs --no-resave-data BaseSpaceR StartedAt: 2025-10-27 15:41:56 -0400 (Mon, 27 Oct 2025) EndedAt: 2025-10-27 15:42:06 -0400 (Mon, 27 Oct 2025) EllapsedTime: 10.1 seconds RetCode: 0 Status: OK PackageFile: BaseSpaceR_1.53.0.tar.gz PackageFileSize: 581.1 KiB