Package: BaseSpaceR Version: 1.53.0 Command: rm -rf BaseSpaceR.buildbin-libdir && mkdir BaseSpaceR.buildbin-libdir && /Users/biocbuild/BBS/utils/build-universal.sh BaseSpaceR_1.53.0.tar.gz /Library/Frameworks/R.framework/Resources/bin/R BaseSpaceR.buildbin-libdir StartedAt: 2025-10-26 22:29:28 -0400 (Sun, 26 Oct 2025) EndedAt: 2025-10-26 22:29:31 -0400 (Sun, 26 Oct 2025) EllapsedTime: 3.1 seconds RetCode: 0 Status: OK PackageFile: BaseSpaceR_1.53.0.tgz PackageFileSize: 750.9 KiB