Package: Banksy Version: 1.5.10 Command: /home/biocbuild/bbs-3.22-bioc/R/bin/R CMD build --keep-empty-dirs --no-resave-data --md5 Banksy StartedAt: 2025-10-24 16:28:33 -0400 (Fri, 24 Oct 2025) EndedAt: 2025-10-24 16:35:09 -0400 (Fri, 24 Oct 2025) EllapsedTime: 396.3 seconds RetCode: 0 Status: OK PackageFile: Banksy_1.5.10.tar.gz PackageFileSize: 5.016 MiB