Package: BadRegionFinder Version: 1.37.0 Command: /home/biocbuild/bbs-3.22-bioc/R/bin/R CMD INSTALL BadRegionFinder StartedAt: 2025-10-24 15:55:23 -0400 (Fri, 24 Oct 2025) EndedAt: 2025-10-24 15:56:03 -0400 (Fri, 24 Oct 2025) EllapsedTime: 39.7 seconds RetCode: 0 Status: OK