Package: BadRegionFinder Version: 1.37.0 Command: /home/biocbuild/bbs-3.22-bioc/R/bin/R CMD build --keep-empty-dirs --no-resave-data --md5 BadRegionFinder StartedAt: 2025-10-27 16:19:03 -0400 (Mon, 27 Oct 2025) EndedAt: 2025-10-27 16:20:20 -0400 (Mon, 27 Oct 2025) EllapsedTime: 77.1 seconds RetCode: 0 Status: OK PackageFile: BadRegionFinder_1.37.0.tar.gz PackageFileSize: 834.7 KiB