Package: BadRegionFinder Version: 1.38.0 Command: /Library/Frameworks/R.framework/Resources/bin/R CMD INSTALL BadRegionFinder StartedAt: 2025-11-10 15:23:20 -0500 (Mon, 10 Nov 2025) EndedAt: 2025-11-10 15:23:37 -0500 (Mon, 10 Nov 2025) EllapsedTime: 17.4 seconds RetCode: 0 Status: OK