Package: BadRegionFinder Version: 1.38.0 Command: /Library/Frameworks/R.framework/Resources/bin/R CMD build --keep-empty-dirs --no-resave-data BadRegionFinder StartedAt: 2025-11-10 15:40:33 -0500 (Mon, 10 Nov 2025) EndedAt: 2025-11-10 15:41:06 -0500 (Mon, 10 Nov 2025) EllapsedTime: 33.4 seconds RetCode: 0 Status: OK PackageFile: BadRegionFinder_1.38.0.tar.gz PackageFileSize: 833.2 KiB