Package: BadRegionFinder Version: 1.38.0 Command: rm -rf BadRegionFinder.buildbin-libdir && mkdir BadRegionFinder.buildbin-libdir && /Users/biocbuild/BBS/utils/build-universal.sh BadRegionFinder_1.38.0.tar.gz /Library/Frameworks/R.framework/Resources/bin/R BadRegionFinder.buildbin-libdir StartedAt: 2025-11-10 23:11:43 -0500 (Mon, 10 Nov 2025) EndedAt: 2025-11-10 23:12:01 -0500 (Mon, 10 Nov 2025) EllapsedTime: 18.4 seconds RetCode: 0 Status: OK PackageFile: BadRegionFinder_1.38.0.tgz PackageFileSize: 929.9 KiB