Package: BaalChIP Version: 1.36.0 Command: /Library/Frameworks/R.framework/Resources/bin/R CMD build --keep-empty-dirs --no-resave-data BaalChIP StartedAt: 2025-11-10 15:40:24 -0500 (Mon, 10 Nov 2025) EndedAt: 2025-11-10 15:41:18 -0500 (Mon, 10 Nov 2025) EllapsedTime: 53.6 seconds RetCode: 0 Status: OK PackageFile: BaalChIP_1.36.0.tar.gz PackageFileSize: 45.32 MiB