Package: BaalChIP Version: 1.36.0 Command: rm -rf BaalChIP.buildbin-libdir && mkdir BaalChIP.buildbin-libdir && /Users/biocbuild/BBS/utils/build-universal.sh BaalChIP_1.36.0.tar.gz /Library/Frameworks/R.framework/Resources/bin/R BaalChIP.buildbin-libdir StartedAt: 2025-11-10 23:11:41 -0500 (Mon, 10 Nov 2025) EndedAt: 2025-11-10 23:12:16 -0500 (Mon, 10 Nov 2025) EllapsedTime: 35.6 seconds RetCode: 0 Status: OK PackageFile: BaalChIP_1.36.0.tgz PackageFileSize: 100.2 MiB