Package: BUSseq Version: 1.15.1 Command: /home/biocbuild/bbs-3.22-bioc/R/bin/R CMD INSTALL BUSseq StartedAt: 2025-10-27 15:21:08 -0400 (Mon, 27 Oct 2025) EndedAt: 2025-10-27 15:21:34 -0400 (Mon, 27 Oct 2025) EllapsedTime: 25.7 seconds RetCode: 0 Status: OK