Package: BSgenomeForge Version: 1.10.0 Command: /home/biocbuild/bbs-3.22-bioc/R/bin/R CMD INSTALL BSgenomeForge StartedAt: 2025-11-16 15:28:45 -0500 (Sun, 16 Nov 2025) EndedAt: 2025-11-16 15:29:22 -0500 (Sun, 16 Nov 2025) EllapsedTime: 36.6 seconds RetCode: 0 Status: OK