Package: BREW3R.r Version: 1.5.0 Command: /Library/Frameworks/R.framework/Resources/bin/R CMD INSTALL BREW3R.r StartedAt: 2025-10-26 15:12:00 -0400 (Sun, 26 Oct 2025) EndedAt: 2025-10-26 15:12:04 -0400 (Sun, 26 Oct 2025) EllapsedTime: 3.6 seconds RetCode: 0 Status: OK