Package: BREW3R.r Version: 1.5.0 Command: /Library/Frameworks/R.framework/Resources/bin/R CMD build --keep-empty-dirs --no-resave-data BREW3R.r StartedAt: 2025-10-26 15:48:50 -0400 (Sun, 26 Oct 2025) EndedAt: 2025-10-26 15:49:05 -0400 (Sun, 26 Oct 2025) EllapsedTime: 15.2 seconds RetCode: 0 Status: OK PackageFile: BREW3R.r_1.5.0.tar.gz PackageFileSize: 1.901 MiB