Package: BPRMeth Version: 1.35.0 Command: /home/biocbuild/bbs-3.22-bioc/R/bin/R CMD build --keep-empty-dirs --no-resave-data --md5 BPRMeth StartedAt: 2025-10-24 16:43:30 -0400 (Fri, 24 Oct 2025) EndedAt: 2025-10-24 16:45:01 -0400 (Fri, 24 Oct 2025) EllapsedTime: 90.1 seconds RetCode: 0 Status: OK PackageFile: BPRMeth_1.35.0.tar.gz PackageFileSize: 3.166 MiB