Package: BOBaFIT Version: 1.13.0 Command: /home/biocbuild/bbs-3.22-bioc/R/bin/R CMD INSTALL BOBaFIT StartedAt: 2025-10-24 15:57:51 -0400 (Fri, 24 Oct 2025) EndedAt: 2025-10-24 15:58:41 -0400 (Fri, 24 Oct 2025) EllapsedTime: 50.1 seconds RetCode: 0 Status: OK