Package: BOBaFIT Version: 1.14.0 Command: /Library/Frameworks/R.framework/Resources/bin/R CMD INSTALL BOBaFIT StartedAt: 2025-11-02 15:52:28 -0500 (Sun, 02 Nov 2025) EndedAt: 2025-11-02 15:53:36 -0500 (Sun, 02 Nov 2025) EllapsedTime: 68.1 seconds RetCode: 0 Status: OK