Package: BOBaFIT Version: 1.14.0 Command: /Library/Frameworks/R.framework/Resources/bin/R CMD build --keep-empty-dirs --no-resave-data BOBaFIT StartedAt: 2025-11-03 16:17:29 -0500 (Mon, 03 Nov 2025) EndedAt: 2025-11-03 16:19:21 -0500 (Mon, 03 Nov 2025) EllapsedTime: 111.7 seconds RetCode: 0 Status: OK PackageFile: BOBaFIT_1.14.0.tar.gz PackageFileSize: 2.498 MiB