Package: BOBaFIT Version: 1.14.0 Command: rm -rf BOBaFIT.buildbin-libdir && mkdir BOBaFIT.buildbin-libdir && /Users/biocbuild/BBS/utils/build-universal.sh BOBaFIT_1.14.0.tar.gz /Library/Frameworks/R.framework/Resources/bin/R BOBaFIT.buildbin-libdir StartedAt: 2025-11-04 01:30:22 -0500 (Tue, 04 Nov 2025) EndedAt: 2025-11-04 01:31:32 -0500 (Tue, 04 Nov 2025) EllapsedTime: 70.8 seconds RetCode: 0 Status: OK PackageFile: BOBaFIT_1.14.0.tgz PackageFileSize: 2.444 MiB