Package: BOBaFIT Version: 1.13.0 Command: /Library/Frameworks/R.framework/Resources/bin/R CMD INSTALL BOBaFIT StartedAt: 2025-10-24 15:26:16 -0400 (Fri, 24 Oct 2025) EndedAt: 2025-10-24 15:26:37 -0400 (Fri, 24 Oct 2025) EllapsedTime: 21.2 seconds RetCode: 0 Status: OK