Package: BOBaFIT Version: 1.13.0 Command: /Library/Frameworks/R.framework/Resources/bin/R CMD build --keep-empty-dirs --no-resave-data BOBaFIT StartedAt: 2025-10-24 15:50:49 -0400 (Fri, 24 Oct 2025) EndedAt: 2025-10-24 15:51:30 -0400 (Fri, 24 Oct 2025) EllapsedTime: 40.4 seconds RetCode: 0 Status: OK PackageFile: BOBaFIT_1.13.0.tar.gz PackageFileSize: 2.496 MiB