Package: BOBaFIT Version: 1.14.0 Maintainer: Gaia Mazzocchetti MaintainerEmail: bioinformatic.seragnoli at gmail.com git_url: https://git.bioconductor.org/packages/BOBaFIT git_branch: RELEASE_3_22 git_last_commit: b498546 git_last_commit_date: 2025-10-29 11:14:21 -0400 (Wed, 29 Oct 2025)