Package: BLMA Version: 1.33.0 Command: /Library/Frameworks/R.framework/Resources/bin/R CMD INSTALL BLMA StartedAt: 2025-10-27 15:09:26 -0400 (Mon, 27 Oct 2025) EndedAt: 2025-10-27 15:09:35 -0400 (Mon, 27 Oct 2025) EllapsedTime: 8.6 seconds RetCode: 0 Status: OK