Package: BG2 Version: 1.9.0 Command: /home/biocbuild/bbs-3.22-bioc/R/bin/R CMD INSTALL BG2 StartedAt: 2025-10-27 15:11:56 -0400 (Mon, 27 Oct 2025) EndedAt: 2025-10-27 15:12:10 -0400 (Mon, 27 Oct 2025) EllapsedTime: 13.7 seconds RetCode: 0 Status: OK