Package: BEclear Version: 2.25.0 Command: /home/biocbuild/bbs-3.22-bioc/R/bin/R CMD INSTALL BEclear StartedAt: 2025-10-24 15:15:41 -0400 (Fri, 24 Oct 2025) EndedAt: 2025-10-24 15:15:56 -0400 (Fri, 24 Oct 2025) EllapsedTime: 14.8 seconds RetCode: 0 Status: OK