Package: BEAT Version: 1.47.0 Command: /home/biocbuild/bbs-3.22-bioc/R/bin/R CMD build --keep-empty-dirs --no-resave-data --md5 BEAT StartedAt: 2025-10-24 16:34:35 -0400 (Fri, 24 Oct 2025) EndedAt: 2025-10-24 16:35:55 -0400 (Fri, 24 Oct 2025) EllapsedTime: 80.0 seconds RetCode: 0 Status: OK PackageFile: BEAT_1.47.0.tar.gz PackageFileSize: 3.293 MiB