Package: BCRANK Version: 1.72.0 Command: /home/biocbuild/bbs-3.22-bioc/R/bin/R CMD INSTALL BCRANK StartedAt: 2025-11-20 16:25:44 -0500 (Thu, 20 Nov 2025) EndedAt: 2025-11-20 16:25:54 -0500 (Thu, 20 Nov 2025) EllapsedTime: 10.4 seconds RetCode: 0 Status: OK