Package: BBCAnalyzer Version: 1.39.0 Command: /home/biocbuild/bbs-3.22-bioc/R/bin/R CMD build --keep-empty-dirs --no-resave-data --md5 BBCAnalyzer StartedAt: 2025-10-24 16:32:48 -0400 (Fri, 24 Oct 2025) EndedAt: 2025-10-24 16:39:20 -0400 (Fri, 24 Oct 2025) EllapsedTime: 392.3 seconds RetCode: 0 Status: OK PackageFile: BBCAnalyzer_1.39.0.tar.gz PackageFileSize: 2.204 MiB