Package: BBCAnalyzer Version: 1.39.0 Command: /Library/Frameworks/R.framework/Resources/bin/R CMD INSTALL BBCAnalyzer StartedAt: 2025-10-24 15:45:10 -0400 (Fri, 24 Oct 2025) EndedAt: 2025-10-24 15:46:09 -0400 (Fri, 24 Oct 2025) EllapsedTime: 58.2 seconds RetCode: 0 Status: OK