Package: BBCAnalyzer Version: 1.39.0 Command: rm -rf BBCAnalyzer.buildbin-libdir && mkdir BBCAnalyzer.buildbin-libdir && /Users/biocbuild/BBS/utils/build-universal.sh BBCAnalyzer_1.39.0.tar.gz /Library/Frameworks/R.framework/Resources/bin/R BBCAnalyzer.buildbin-libdir StartedAt: 2025-10-25 01:29:02 -0400 (Sat, 25 Oct 2025) EndedAt: 2025-10-25 01:30:03 -0400 (Sat, 25 Oct 2025) EllapsedTime: 61.4 seconds RetCode: 0 Status: OK PackageFile: BBCAnalyzer_1.39.0.tgz PackageFileSize: 2.059 MiB