Package: BBCAnalyzer Version: 1.39.0 Command: /Library/Frameworks/R.framework/Resources/bin/R CMD INSTALL BBCAnalyzer StartedAt: 2025-10-24 15:24:06 -0400 (Fri, 24 Oct 2025) EndedAt: 2025-10-24 15:24:24 -0400 (Fri, 24 Oct 2025) EllapsedTime: 17.9 seconds RetCode: 0 Status: OK